BEGIN:VCALENDAR
PRODID:-//PUBBLE//agenda//NL
VERSION:2.0
METHOD:PUBLISH
BEGIN:VEVENT
DTSTART:20260425T070000Z
DTEND:20260425T100000Z
DTSTAMP:20260425T141619Z
UID:b324b988-5eeb-4a68-84ee-fb4d293c4321
CREATED:20260425T141619Z
NAME:Rommelmarktverkoop barneveldsekrant.nl
X-WR-CALNAME:Rommelmarktverkoop
X-ALT-DESC;FMTTYPE=text/html:<a href='/agenda/2026/4/25/rommelmarktverkoop-1272230'>/agenda/2026/4/25/rommelmarktverkoop-1272230</a> || <p>Haarkampstraat 10, Voorthuizen&nbsp;</p>
DESCRIPTION:<a href='/agenda/2026/4/25/rommelmarktverkoop-1272230'>/agenda/2026/4/25/rommelmarktverkoop-1272230</a> || <p>Haarkampstraat 10, Voorthuizen&nbsp;</p>
LAST-MODIFIED:20260425T141619Z
LOCATION: Goed gekocht rommelmarktschuur | Wouterskamp 10 Voorthuizen
SEQUENCE:0
STATUS:CONFIRMED
SUMMARY:Rommelmarktverkoop
TRANSP:OPAQUE
END:VEVENT
END:VCALENDAR
