BEGIN:VCALENDAR
PRODID:-//PUBBLE//agenda//NL
VERSION:2.0
METHOD:PUBLISH
BEGIN:VEVENT
DTSTART:20260425T070000Z
DTEND:20260425T100000Z
DTSTAMP:20260425T142308Z
UID:1ed92289-44e0-4272-95c6-8e45584312ef
CREATED:20260425T142308Z
NAME:Boeldag-schuurverkoop barneveldsekrant.nl
X-WR-CALNAME:Boeldag-schuurverkoop
X-ALT-DESC;FMTTYPE=text/html:<a href='/agenda/2026/4/25/boeldag-schuurverkoop-1271632'>/agenda/2026/4/25/boeldag-schuurverkoop-1271632</a> || <p>Vanmorgen is er weer Boeldag-schuurverkoop! De deuren van beide opslagschuren, aan de Nieuwe Voorthuizerweg 15a (navigatie Nijkerk) en Wolsbergerweg 12 in Voorthuizen zijn open van &nbsp;9.00 tot 12.00 uur. U bent van harte welkom. &nbsp;</p><p>Aan de Wolsbergerweg verkopen we boeken, witgoed, elektronica, (tuin)gereedschap en tuinmeubelen. In de schuur aan de Nieuwe Voorthuizerweg hebben we - naast gratis koffie - allerlei leuke (huishoudelijke) hebbedingetjes, kleding, speelgoed, verlichting, bedden en een zeer grote voorraad aan tafels, stoelen, bankstellen en kasten. Tegen een kleine vergoeding kunnen wij grote aankopen op afspraak bij u thuisbezorgen.</p><p>De Nieuwe Voorthuizerweg is ook de plaats waar u uw overtollige spullen, die nog in goede staat verkeren, vanmorgen kunt inleveren. Inleveren kan daarnaast elke dinsdagmiddag op dit adres van 13.00 tot 15.00 uur.</p>
DESCRIPTION:<a href='/agenda/2026/4/25/boeldag-schuurverkoop-1271632'>/agenda/2026/4/25/boeldag-schuurverkoop-1271632</a> || <p>Vanmorgen is er weer Boeldag-schuurverkoop! De deuren van beide opslagschuren, aan de Nieuwe Voorthuizerweg 15a (navigatie Nijkerk) en Wolsbergerweg 12 in Voorthuizen zijn open van &nbsp;9.00 tot 12.00 uur. U bent van harte welkom. &nbsp;</p><p>Aan de Wolsbergerweg verkopen we boeken, witgoed, elektronica, (tuin)gereedschap en tuinmeubelen. In de schuur aan de Nieuwe Voorthuizerweg hebben we - naast gratis koffie - allerlei leuke (huishoudelijke) hebbedingetjes, kleding, speelgoed, verlichting, bedden en een zeer grote voorraad aan tafels, stoelen, bankstellen en kasten. Tegen een kleine vergoeding kunnen wij grote aankopen op afspraak bij u thuisbezorgen.</p><p>De Nieuwe Voorthuizerweg is ook de plaats waar u uw overtollige spullen, die nog in goede staat verkeren, vanmorgen kunt inleveren. Inleveren kan daarnaast elke dinsdagmiddag op dit adres van 13.00 tot 15.00 uur.</p>
LAST-MODIFIED:20260425T142308Z
LOCATION: Boeldag opslagschuur | Nieuwe Voorthuizerweg 15a Voorthuizen
SEQUENCE:0
STATUS:CONFIRMED
SUMMARY:Boeldag-schuurverkoop
TRANSP:OPAQUE
END:VEVENT
END:VCALENDAR
