BEGIN:VCALENDAR
PRODID:-//PUBBLE//agenda//NL
VERSION:2.0
METHOD:PUBLISH
BEGIN:VEVENT
DTSTART:20260425T074500Z
DTEND:20260425T100000Z
DTSTAMP:20260425T141214Z
UID:5a7db420-8c47-4ce2-a5ee-e81c11b6a925
CREATED:20260425T141214Z
NAME:IVN Wandeling Natuurgebied Vossen barneveldsekrant.nl
X-WR-CALNAME:IVN Wandeling Natuurgebied Vossen
X-ALT-DESC;FMTTYPE=text/html:<a href='/agenda/2026/4/25/ivn-wandeling-natuurgebied-vossen-1271263'>/agenda/2026/4/25/ivn-wandeling-natuurgebied-vossen-1271263</a> || <p>Zaterdagmorgen 25 april 2026 kunt u onder leiding van IVN-gidsen het natuurgebied Vossen bewonderen. Het is gelegen aan de rechterzijde van de Apeldoonsestraat tegenover boerderij ‘het Molentje’ aan de Rode Zanden 8, Uddel/Garderen. Het gebied kenmerkt zich door glooiingen in het landschap die gedeeltelijk bebost zijn. Het is een voortzetting van de stuwwallen van het gehucht Ouwendorp ten noorden van de Apeldoornsestraat. Recent is het terrein van de voormalige graszodenkwekerij aangekocht door Staatsbosbeheer. De gemeente Apeldoorn is bezig de agrarische bestemming om te zetten in natuur. Mede door interessante vondsten zal de nieuwe bestemming van het terrein binnen afzienbare tijd duidelijk te zien zijn. We verwachten dat de larix dan zijn lichtgroene naalden zal laten zien. Ook de beukenbomen zullen dan weer zijn uitgelopen! De liefhebbers van korstmossen kunnen in dit gebied hun hart ophalen. We verzamelen om 9.45 uur op de parkeerplaats bij Bethabara in Voorthuizen. Aanmelden is niet nodig. De wandeling is voor leden, donateurs en kinderen gratis. Niet-leden betalen €3,50 per persoon. Informatie op https://www.ivn.nl/afdeling/barneveld/</p>
DESCRIPTION:<a href='/agenda/2026/4/25/ivn-wandeling-natuurgebied-vossen-1271263'>/agenda/2026/4/25/ivn-wandeling-natuurgebied-vossen-1271263</a> || <p>Zaterdagmorgen 25 april 2026 kunt u onder leiding van IVN-gidsen het natuurgebied Vossen bewonderen. Het is gelegen aan de rechterzijde van de Apeldoonsestraat tegenover boerderij ‘het Molentje’ aan de Rode Zanden 8, Uddel/Garderen. Het gebied kenmerkt zich door glooiingen in het landschap die gedeeltelijk bebost zijn. Het is een voortzetting van de stuwwallen van het gehucht Ouwendorp ten noorden van de Apeldoornsestraat. Recent is het terrein van de voormalige graszodenkwekerij aangekocht door Staatsbosbeheer. De gemeente Apeldoorn is bezig de agrarische bestemming om te zetten in natuur. Mede door interessante vondsten zal de nieuwe bestemming van het terrein binnen afzienbare tijd duidelijk te zien zijn. We verwachten dat de larix dan zijn lichtgroene naalden zal laten zien. Ook de beukenbomen zullen dan weer zijn uitgelopen! De liefhebbers van korstmossen kunnen in dit gebied hun hart ophalen. We verzamelen om 9.45 uur op de parkeerplaats bij Bethabara in Voorthuizen. Aanmelden is niet nodig. De wandeling is voor leden, donateurs en kinderen gratis. Niet-leden betalen €3,50 per persoon. Informatie op https://www.ivn.nl/afdeling/barneveld/</p>
LAST-MODIFIED:20260425T141214Z
LOCATION: Kerkelijk Centrum Bethabara | Van den Berglaan 79 Voorthuizen
SEQUENCE:0
STATUS:CONFIRMED
SUMMARY:IVN Wandeling Natuurgebied Vossen
TRANSP:OPAQUE
END:VEVENT
END:VCALENDAR
