BEGIN:VCALENDAR
PRODID:-//PUBBLE//agenda//NL
VERSION:2.0
METHOD:PUBLISH
BEGIN:VEVENT
DTSTART:20260420T110000Z
DTEND:20260731T102800Z
DTSTAMP:20260421T105118Z
UID:56d84e71-3f53-45f4-a528-661fe75beee0
CREATED:20260421T105118Z
NAME:Het Bephuis - Inloop barneveldsekrant.nl
X-WR-CALNAME:Het Bephuis - Inloop
X-ALT-DESC;FMTTYPE=text/html:<a href='/agenda/2026/4/20/het-bephuis-inloop-1271180'>/agenda/2026/4/20/het-bephuis-inloop-1271180</a> || <p>Aan de Achterdorpstraat 6 in Barneveld is Het Bephuis geopend: een warme, laagdrempelige plek voor ontmoeting, rust en creativiteit. Bezoekers zijn welkom op dinsdag van 13.00 tot 16.00 uur en donderdag van 10.00 tot 13.00 uur. Even binnenlopen voor koffie, een praatje of iets creatiefs maken kan gewoon, zonder intake of labels. </p>
DESCRIPTION:<a href='/agenda/2026/4/20/het-bephuis-inloop-1271180'>/agenda/2026/4/20/het-bephuis-inloop-1271180</a> || <p>Aan de Achterdorpstraat 6 in Barneveld is Het Bephuis geopend: een warme, laagdrempelige plek voor ontmoeting, rust en creativiteit. Bezoekers zijn welkom op dinsdag van 13.00 tot 16.00 uur en donderdag van 10.00 tot 13.00 uur. Even binnenlopen voor koffie, een praatje of iets creatiefs maken kan gewoon, zonder intake of labels. </p>
LAST-MODIFIED:20260421T105118Z
LOCATION: Het Bephuis | Achterdorpstraat 6 Barneveld
SEQUENCE:0
STATUS:CONFIRMED
SUMMARY:Het Bephuis - Inloop
TRANSP:OPAQUE
END:VEVENT
END:VCALENDAR
