BEGIN:VCALENDAR
PRODID:-//PUBBLE//agenda//NL
VERSION:2.0
METHOD:PUBLISH
BEGIN:VEVENT
DTSTART:20260424T120000Z
DTEND:20260424T133000Z
DTSTAMP:20260424T140329Z
UID:78be6388-e2c1-4b73-8496-c40f394c8725
CREATED:20260424T140329Z
NAME:Speelotheek Het Wagonnetje is vrijdagmiddag open barneveldsekrant.nl
X-WR-CALNAME:Speelotheek Het Wagonnetje is vrijdagmiddag open
X-ALT-DESC;FMTTYPE=text/html:<a href='/agenda/2026/4/24/speelotheek-het-wagonnetje-is-vrijdagmiddag-open-1270694'>/agenda/2026/4/24/speelotheek-het-wagonnetje-is-vrijdagmiddag-open-1270694</a> || <p>Speelotheek “Het Wagonnetje” is een uitleen van speelgoed. Je kunt speelgoed lenen voor een periode van vier weken. Alle ouders, verzorger, opa’s en oma’s zijn van harte welkom! Voor een borg van € 5,= mag je 4 stuks speelgoed meenemen. </p>
DESCRIPTION:<a href='/agenda/2026/4/24/speelotheek-het-wagonnetje-is-vrijdagmiddag-open-1270694'>/agenda/2026/4/24/speelotheek-het-wagonnetje-is-vrijdagmiddag-open-1270694</a> || <p>Speelotheek “Het Wagonnetje” is een uitleen van speelgoed. Je kunt speelgoed lenen voor een periode van vier weken. Alle ouders, verzorger, opa’s en oma’s zijn van harte welkom! Voor een borg van € 5,= mag je 4 stuks speelgoed meenemen. </p>
LAST-MODIFIED:20260424T140329Z
LOCATION: Perron16 | Smidsplein 6 Voorthuizen
SEQUENCE:0
STATUS:CONFIRMED
SUMMARY:Speelotheek Het Wagonnetje is vrijdagmiddag open
TRANSP:OPAQUE
END:VEVENT
END:VCALENDAR
