BEGIN:VCALENDAR
PRODID:-//PUBBLE//agenda//NL
VERSION:2.0
METHOD:PUBLISH
BEGIN:VEVENT
DTSTART:20260423T150000Z
DTEND:20260423T163000Z
DTSTAMP:20260423T140433Z
UID:047e10dd-8c09-44c3-9955-7ab8320a36ec
CREATED:20260423T140433Z
NAME:Soep (er) in barneveldsekrant.nl
X-WR-CALNAME:Soep (er) in
X-ALT-DESC;FMTTYPE=text/html:<a href='/agenda/2026/4/23/soep-er-in-1270693'>/agenda/2026/4/23/soep-er-in-1270693</a> || <p>Om de veertien dagen op donderdag nodigen we je uit om samen soep te eten en elkaar te ontmoeten. Er zijn geen kosten voor deze activiteit. Iedereen is welkom!&nbsp;</p><p>Mogelijk gemaakt door een donatie van Kindcentrum van den Bergschool en de kok van De Goudreinet. Denkt u aan het collectepotje voor de kosten van de koffie op de tafel?&nbsp;</p>
DESCRIPTION:<a href='/agenda/2026/4/23/soep-er-in-1270693'>/agenda/2026/4/23/soep-er-in-1270693</a> || <p>Om de veertien dagen op donderdag nodigen we je uit om samen soep te eten en elkaar te ontmoeten. Er zijn geen kosten voor deze activiteit. Iedereen is welkom!&nbsp;</p><p>Mogelijk gemaakt door een donatie van Kindcentrum van den Bergschool en de kok van De Goudreinet. Denkt u aan het collectepotje voor de kosten van de koffie op de tafel?&nbsp;</p>
LAST-MODIFIED:20260423T140433Z
LOCATION: Perron16 | Smidsplein 6 Voorthuizen
SEQUENCE:0
STATUS:CONFIRMED
SUMMARY:Soep (er) in
TRANSP:OPAQUE
END:VEVENT
END:VCALENDAR
