BEGIN:VCALENDAR
PRODID:-//PUBBLE//agenda//NL
VERSION:2.0
METHOD:PUBLISH
BEGIN:VEVENT
DTSTART:20260306T190300Z
DTEND:20261127T190300Z
DTSTAMP:20260421T105118Z
UID:e2c7b281-2c03-45ee-ae0d-19fb680dea1d
CREATED:20260421T105118Z
NAME:Boekbespreking de Christenreis - Huiskamer Samaria barneveldsekrant.nl
X-WR-CALNAME:Boekbespreking de Christenreis - Huiskamer Samaria
X-ALT-DESC;FMTTYPE=text/html:<a href='/agenda/2026/3/6/boekbespreking-de-christenreis-huiskamer-samaria-1266181'>/agenda/2026/3/6/boekbespreking-de-christenreis-huiskamer-samaria-1266181</a> || <p>Hebt u wel eens een bijzondere reis gemaakt? Een onvergetelijke vakantiereis bijvoorbeeld? Een spannende tocht door de bergen of een enerverende zakenreis?</p><p>Op vrijdagavond, in de even weken, nemen we u mee in een uniek reisverhaal dat u aan het denken zal zetten…</p><p>Deze avond is van 19.00 - 20.00 uur.</p>
DESCRIPTION:<a href='/agenda/2026/3/6/boekbespreking-de-christenreis-huiskamer-samaria-1266181'>/agenda/2026/3/6/boekbespreking-de-christenreis-huiskamer-samaria-1266181</a> || <p>Hebt u wel eens een bijzondere reis gemaakt? Een onvergetelijke vakantiereis bijvoorbeeld? Een spannende tocht door de bergen of een enerverende zakenreis?</p><p>Op vrijdagavond, in de even weken, nemen we u mee in een uniek reisverhaal dat u aan het denken zal zetten…</p><p>Deze avond is van 19.00 - 20.00 uur.</p>
LAST-MODIFIED:20260421T105118Z
LOCATION: Huiskamer Samaria | Jan van Schaffelaarstraat 62 Barneveld
SEQUENCE:0
STATUS:CONFIRMED
SUMMARY:Boekbespreking de Christenreis - Huiskamer Samaria
TRANSP:OPAQUE
END:VEVENT
END:VCALENDAR
