BEGIN:VCALENDAR
PRODID:-//PUBBLE//agenda//NL
VERSION:2.0
METHOD:PUBLISH
BEGIN:VEVENT
DTSTART:20260304T103000Z
DTEND:20261231T121500Z
DTSTAMP:20260421T122629Z
UID:67a4c4e8-37fd-4e73-8f87-e026cfced709
CREATED:20260421T122629Z
NAME:Lunch met heerlijke broodjes en verse koffie/thee barneveldsekrant.nl
X-WR-CALNAME:Lunch met heerlijke broodjes en verse koffie/thee
X-ALT-DESC;FMTTYPE=text/html:<a href='/agenda/2026/3/4/lunch-met-heerlijke-broodjes-en-verse-koffie-thee-1257575'>/agenda/2026/3/4/lunch-met-heerlijke-broodjes-en-verse-koffie-thee-1257575</a> || <p>Elke middag is er een lunch in de Huiskamer Samaria waarbij iedereen mag aanschuiven. Een kleine, vrijwillige, financiële bijdrage is welkom. Welkom!</p>
DESCRIPTION:<a href='/agenda/2026/3/4/lunch-met-heerlijke-broodjes-en-verse-koffie-thee-1257575'>/agenda/2026/3/4/lunch-met-heerlijke-broodjes-en-verse-koffie-thee-1257575</a> || <p>Elke middag is er een lunch in de Huiskamer Samaria waarbij iedereen mag aanschuiven. Een kleine, vrijwillige, financiële bijdrage is welkom. Welkom!</p>
LAST-MODIFIED:20260421T122629Z
LOCATION: Huiskamer Samaria | Jan van Schaffelaarstraat 62 Barneveld
SEQUENCE:0
STATUS:CONFIRMED
SUMMARY:Lunch met heerlijke broodjes en verse koffie/thee
TRANSP:OPAQUE
END:VEVENT
END:VCALENDAR
