BEGIN:VCALENDAR
PRODID:-//PUBBLE//agenda//NL
VERSION:2.0
METHOD:PUBLISH
BEGIN:VEVENT
DTSTART:20260306T170000Z
DTEND:20261201T101300Z
DTSTAMP:20260421T105741Z
UID:4c4573e2-202c-4b75-aa91-eb74883889d5
CREATED:20260421T105741Z
NAME:Leeskring De Christenreis barneveldsekrant.nl
X-WR-CALNAME:Leeskring De Christenreis
X-ALT-DESC;FMTTYPE=text/html:<a href='/agenda/2026/3/6/leeskring-de-christenreis-1257547'>/agenda/2026/3/6/leeskring-de-christenreis-1257547</a> || <p>De Christenreis van John Bunyan is een van de meest gelezen boeken ter wereld. Maar waar gaat het boek eigenlijk over? En wat heeft het allemaal te zeggen? In de Huiskamer Samaria wordt het boek op vrijdagavond besproken. Ook is er een expositie te zien over De Christenreis.&nbsp;</p>
DESCRIPTION:<a href='/agenda/2026/3/6/leeskring-de-christenreis-1257547'>/agenda/2026/3/6/leeskring-de-christenreis-1257547</a> || <p>De Christenreis van John Bunyan is een van de meest gelezen boeken ter wereld. Maar waar gaat het boek eigenlijk over? En wat heeft het allemaal te zeggen? In de Huiskamer Samaria wordt het boek op vrijdagavond besproken. Ook is er een expositie te zien over De Christenreis.&nbsp;</p>
LAST-MODIFIED:20260421T105741Z
LOCATION: Huiskamer Samaria | Jan van Schaffelaarstraat 62 Barneveld
SEQUENCE:0
STATUS:CONFIRMED
SUMMARY:Leeskring De Christenreis
TRANSP:OPAQUE
END:VEVENT
END:VCALENDAR
