BEGIN:VCALENDAR
PRODID:-//PUBBLE//agenda//NL
VERSION:2.0
METHOD:PUBLISH
BEGIN:VEVENT
DTSTART:20260223T080000Z
DTEND:20261231T054300Z
DTSTAMP:20260425T140842Z
UID:023163ab-8d04-4119-bd9e-315aefd50a77
CREATED:20260425T140842Z
NAME:Repair Café Goede Herderkerk barneveldsekrant.nl
X-WR-CALNAME:Repair Café Goede Herderkerk
X-ALT-DESC;FMTTYPE=text/html:<a href='/agenda/2026/2/23/repair-cafe-goede-herderkerk-1254157'>/agenda/2026/2/23/repair-cafe-goede-herderkerk-1254157</a> || <p>Gun uw kapotte spullen een tweede kans. &nbsp;Elke
laatste zaterdag van de maand tussen 10 en 12 uur staan vrijwilligers van het Repair Café in de Goede Herderkerk klaar om
reparaties uit te voeren. De hulp is gratis; verbruikt materiaal
of onderdelen betaalt u wel. Een vrijwillige bijdrage voor de onkosten wordt
gewaardeerd.</p>
DESCRIPTION:<a href='/agenda/2026/2/23/repair-cafe-goede-herderkerk-1254157'>/agenda/2026/2/23/repair-cafe-goede-herderkerk-1254157</a> || <p>Gun uw kapotte spullen een tweede kans. &nbsp;Elke
laatste zaterdag van de maand tussen 10 en 12 uur staan vrijwilligers van het Repair Café in de Goede Herderkerk klaar om
reparaties uit te voeren. De hulp is gratis; verbruikt materiaal
of onderdelen betaalt u wel. Een vrijwillige bijdrage voor de onkosten wordt
gewaardeerd.</p>
LAST-MODIFIED:20260425T140842Z
LOCATION: Goede Herderkerk | Jan Seppenplein 70 Barneveld
SEQUENCE:0
STATUS:CONFIRMED
SUMMARY:Repair Café Goede Herderkerk
TRANSP:OPAQUE
END:VEVENT
END:VCALENDAR
